Package: FamAgg Version: 1.34.0 Command: /home/biocbuild/bbs-3.20-bioc/R/bin/R CMD check --install=check:FamAgg.install-out.txt --library=/home/biocbuild/bbs-3.20-bioc/R/site-library --timings FamAgg_1.34.0.tar.gz StartedAt: 2025-02-03 22:20:19 -0500 (Mon, 03 Feb 2025) EndedAt: 2025-02-03 22:22:57 -0500 (Mon, 03 Feb 2025) EllapsedTime: 158.3 seconds RetCode: 0 Status: OK CheckDir: FamAgg.Rcheck Warnings: 0