Package: FamAgg Version: 1.34.0 Command: /home/biocbuild/bbs-3.20-bioc/R/bin/R CMD INSTALL FamAgg StartedAt: 2025-02-03 15:59:20 -0500 (Mon, 03 Feb 2025) EndedAt: 2025-02-03 15:59:32 -0500 (Mon, 03 Feb 2025) EllapsedTime: 12.5 seconds RetCode: 0 Status: OK