Package: FamAgg Version: 1.34.0 Command: chmod a+r FamAgg -R && F:\biocbuild\bbs-3.20-bioc\R\bin\R.exe CMD build --keep-empty-dirs --no-resave-data FamAgg StartedAt: 2025-01-30 18:49:33 -0500 (Thu, 30 Jan 2025) EndedAt: 2025-01-30 18:52:33 -0500 (Thu, 30 Jan 2025) EllapsedTime: 179.1 seconds RetCode: 0 Status: OK PackageFile: FamAgg_1.34.0.tar.gz PackageFileSize: 941 KiB