Package: FamAgg Version: 1.34.0 Command: F:\biocbuild\bbs-3.20-bioc\R\bin\R.exe CMD check --no-multiarch --install=check:FamAgg.install-out.txt --library=F:\biocbuild\bbs-3.20-bioc\R\library --no-vignettes --timings FamAgg_1.34.0.tar.gz StartedAt: 2025-01-31 01:58:44 -0500 (Fri, 31 Jan 2025) EndedAt: 2025-01-31 02:01:24 -0500 (Fri, 31 Jan 2025) EllapsedTime: 160.7 seconds RetCode: 0 Status: OK CheckDir: FamAgg.Rcheck Warnings: 0