Package: FamAgg Version: 1.34.0 Command: F:\biocbuild\bbs-3.20-bioc\R\bin\R.exe CMD INSTALL FamAgg StartedAt: 2025-01-30 16:43:10 -0500 (Thu, 30 Jan 2025) EndedAt: 2025-01-30 16:43:57 -0500 (Thu, 30 Jan 2025) EllapsedTime: 47.9 seconds RetCode: 0 Status: OK