Package: FamAgg Version: 1.34.0 Command: /home/biocbuild/R/R/bin/R CMD build --keep-empty-dirs --no-resave-data FamAgg StartedAt: 2025-02-03 23:33:35 -0000 (Mon, 03 Feb 2025) EndedAt: 2025-02-03 23:34:56 -0000 (Mon, 03 Feb 2025) EllapsedTime: 81.1 seconds RetCode: 0 Status: OK PackageFile: FamAgg_1.34.0.tar.gz PackageFileSize: 1.153 MiB