Package: FastqCleaner
Version: 1.24.0
Command: /Library/Frameworks/R.framework/Resources/bin/R CMD build --keep-empty-dirs --no-resave-data FastqCleaner
StartedAt: 2025-02-17 23:35:29 -0500 (Mon, 17 Feb 2025)
EndedAt: 2025-02-17 23:36:51 -0500 (Mon, 17 Feb 2025)
EllapsedTime: 82.4 seconds
RetCode: 0
Status: OK
PackageFile: FastqCleaner_1.24.0.tar.gz
PackageFileSize: 4.356 <A href="http://en.wikipedia.org/wiki/MiB" target="_blank">MiB</A>