Package: FastqCleaner Version: 1.24.0 Command: /Library/Frameworks/R.framework/Resources/bin/R CMD check --install=check:FastqCleaner.install-out.txt --library=/Library/Frameworks/R.framework/Resources/library --no-vignettes --timings FastqCleaner_1.24.0.tar.gz StartedAt: 2025-02-04 03:38:15 -0500 (Tue, 04 Feb 2025) EndedAt: 2025-02-04 03:46:31 -0500 (Tue, 04 Feb 2025) EllapsedTime: 496.1 seconds RetCode: 0 Status: OK CheckDir: FastqCleaner.Rcheck Warnings: 0