Package: FastqCleaner Version: 1.24.0 Command: /home/biocbuild/bbs-3.20-bioc/R/bin/R CMD check --install=check:FastqCleaner.install-out.txt --library=/home/biocbuild/bbs-3.20-bioc/R/site-library --timings FastqCleaner_1.24.0.tar.gz StartedAt: 2025-02-03 22:20:25 -0500 (Mon, 03 Feb 2025) EndedAt: 2025-02-03 22:24:32 -0500 (Mon, 03 Feb 2025) EllapsedTime: 246.3 seconds RetCode: 0 Status: OK CheckDir: FastqCleaner.Rcheck Warnings: 0