Package: FastqCleaner Version: 1.24.0 Command: /home/biocbuild/bbs-3.20-bioc/R/bin/R CMD INSTALL FastqCleaner StartedAt: 2025-02-03 15:43:30 -0500 (Mon, 03 Feb 2025) EndedAt: 2025-02-03 15:44:20 -0500 (Mon, 03 Feb 2025) EllapsedTime: 50.0 seconds RetCode: 0 Status: OK