Package: FastqCleaner Version: 1.24.0 Command: rm -rf FastqCleaner.buildbin-libdir && mkdir FastqCleaner.buildbin-libdir && F:\biocbuild\bbs-3.20-bioc\R\bin\R.exe CMD INSTALL --build --library=FastqCleaner.buildbin-libdir FastqCleaner_1.24.0.tar.gz StartedAt: 2025-02-04 08:29:10 -0500 (Tue, 04 Feb 2025) EndedAt: 2025-02-04 08:33:34 -0500 (Tue, 04 Feb 2025) EllapsedTime: 264.1 seconds RetCode: 0 Status: OK PackageFile: FastqCleaner_1.24.0.zip PackageFileSize: 4.003 MiB