Package: FindIT2 Version: 1.12.0 Command: /Library/Frameworks/R.framework/Resources/bin/R CMD build --keep-empty-dirs --no-resave-data FindIT2 StartedAt: 2025-02-17 19:02:00 -0500 (Mon, 17 Feb 2025) EndedAt: 2025-02-17 19:05:17 -0500 (Mon, 17 Feb 2025) EllapsedTime: 196.8 seconds RetCode: 0 Status: OK PackageFile: FindIT2_1.12.0.tar.gz PackageFileSize: 2.318 <A href="http://en.wikipedia.org/wiki/MiB" target="_blank">MiB</A>