Package: FindIT2 Version: 1.12.0 Command: /Library/Frameworks/R.framework/Resources/bin/R CMD INSTALL FindIT2 StartedAt: 2025-02-03 16:18:57 -0500 (Mon, 03 Feb 2025) EndedAt: 2025-02-03 16:20:13 -0500 (Mon, 03 Feb 2025) EllapsedTime: 76.4 seconds RetCode: 0 Status: OK