Package: FindIT2 Version: 1.12.0 Command: /home/biocbuild/bbs-3.20-bioc/R/bin/R CMD check --install=check:FindIT2.install-out.txt --library=/home/biocbuild/bbs-3.20-bioc/R/site-library --timings FindIT2_1.12.0.tar.gz StartedAt: 2025-02-03 22:23:07 -0500 (Mon, 03 Feb 2025) EndedAt: 2025-02-03 22:29:48 -0500 (Mon, 03 Feb 2025) EllapsedTime: 400.6 seconds RetCode: 0 Status: OK CheckDir: FindIT2.Rcheck Warnings: 0