Package: FindIT2
Version: 1.11.0
Command: F:\biocbuild\bbs-3.20-bioc\R\bin\R.exe CMD check --no-multiarch --install=check:FindIT2.install-out.txt --library=F:\biocbuild\bbs-3.20-bioc\R\library --no-vignettes --timings FindIT2_1.11.0.tar.gz
StartedAt: 2024-06-10 02:43:55 -0400 (Mon, 10 Jun 2024)
EndedAt: 2024-06-10 02:51:28 -0400 (Mon, 10 Jun 2024)
EllapsedTime: 453.2 seconds
RetCode: 0
Status: OK
CheckDir: FindIT2.Rcheck
Warnings: 0