Package: FindIT2 Version: 1.12.0 Command: rm -rf FindIT2.buildbin-libdir && mkdir FindIT2.buildbin-libdir && F:\biocbuild\bbs-3.20-bioc\R\bin\R.exe CMD INSTALL --build --library=FindIT2.buildbin-libdir FindIT2_1.12.0.tar.gz StartedAt: 2025-02-04 08:29:49 -0500 (Tue, 04 Feb 2025) EndedAt: 2025-02-04 08:30:43 -0500 (Tue, 04 Feb 2025) EllapsedTime: 54.1 seconds RetCode: 0 Status: OK PackageFile: FindIT2_1.12.0.zip PackageFileSize: 1.543 MiB