Package: FindIT2 Version: 1.12.0 Command: /home/biocbuild/R/R/bin/R CMD INSTALL FindIT2 StartedAt: 2025-02-03 21:05:40 -0000 (Mon, 03 Feb 2025) EndedAt: 2025-02-03 21:06:26 -0000 (Mon, 03 Feb 2025) EllapsedTime: 45.9 seconds RetCode: 0 Status: OK