Package: FlowSOM
Version: 2.14.0
Maintainer: Sofie Van Gassen
MaintainerEmail: sofie.vangassen at ugent.be
git_url: https://git.bioconductor.org/packages/FlowSOM
git_branch: RELEASE_3_20
git_last_commit: 85b1db5
git_last_commit_date: 2024-10-29 09:57:26 -0500 (Tue, 29 Oct 2024)