Package: FlowSOM Version: 2.14.0 Command: rm -rf FlowSOM.buildbin-libdir && mkdir FlowSOM.buildbin-libdir && /Users/biocbuild/BBS/utils/build-universal.sh FlowSOM_2.14.0.tar.gz /Library/Frameworks/R.framework/Resources/bin/R FlowSOM.buildbin-libdir StartedAt: 2025-02-05 15:53:08 -0500 (Wed, 05 Feb 2025) EndedAt: 2025-02-05 15:53:26 -0500 (Wed, 05 Feb 2025) EllapsedTime: 17.9 seconds RetCode: 0 Status: OK PackageFile: FlowSOM_2.14.0.tgz PackageFileSize: 5.221 MiB