Package: FlowSOM Version: 2.14.0 Command: /Library/Frameworks/R.framework/Resources/bin/R CMD check --install=check:FlowSOM.install-out.txt --library=/Library/Frameworks/R.framework/Resources/library --no-vignettes --timings FlowSOM_2.14.0.tar.gz StartedAt: 2025-02-04 03:50:15 -0500 (Tue, 04 Feb 2025) EndedAt: 2025-02-04 04:08:11 -0500 (Tue, 04 Feb 2025) EllapsedTime: 1076.1 seconds RetCode: 0 Status: OK CheckDir: FlowSOM.Rcheck Warnings: 0