Package: FlowSOM Version: 2.14.0 Command: rm -rf FlowSOM.buildbin-libdir && mkdir FlowSOM.buildbin-libdir && F:\biocbuild\bbs-3.20-bioc\R\bin\R.exe CMD INSTALL --build --library=FlowSOM.buildbin-libdir FlowSOM_2.14.0.tar.gz StartedAt: 2025-02-04 08:30:47 -0500 (Tue, 04 Feb 2025) EndedAt: 2025-02-04 08:31:44 -0500 (Tue, 04 Feb 2025) EllapsedTime: 57.2 seconds RetCode: 0 Status: OK PackageFile: FlowSOM_2.14.0.zip PackageFileSize: 5.234 MiB