Package: FlowSOM Version: 2.14.0 Command: chmod a+r FlowSOM -R && F:\biocbuild\bbs-3.20-bioc\R\bin\R.exe CMD build --keep-empty-dirs --no-resave-data FlowSOM StartedAt: 2025-02-03 19:15:11 -0500 (Mon, 03 Feb 2025) EndedAt: 2025-02-03 19:17:06 -0500 (Mon, 03 Feb 2025) EllapsedTime: 114.9 seconds RetCode: 0 Status: OK PackageFile: FlowSOM_2.14.0.tar.gz PackageFileSize: 4.91 MiB