Package: FlowSOM Version: 2.14.0 Command: F:\biocbuild\bbs-3.20-bioc\R\bin\R.exe CMD check --no-multiarch --install=check:FlowSOM.install-out.txt --library=F:\biocbuild\bbs-3.20-bioc\R\library --no-vignettes --timings FlowSOM_2.14.0.tar.gz StartedAt: 2025-02-04 01:55:25 -0500 (Tue, 04 Feb 2025) EndedAt: 2025-02-04 02:06:15 -0500 (Tue, 04 Feb 2025) EllapsedTime: 649.6 seconds RetCode: 0 Status: OK CheckDir: FlowSOM.Rcheck Warnings: 0