Package: FlowSOM Version: 2.14.0 Command: F:\biocbuild\bbs-3.20-bioc\R\bin\R.exe CMD INSTALL FlowSOM StartedAt: 2025-02-03 16:17:43 -0500 (Mon, 03 Feb 2025) EndedAt: 2025-02-03 16:18:50 -0500 (Mon, 03 Feb 2025) EllapsedTime: 67.1 seconds RetCode: 0 Status: OK