Package: FuseSOM Version: 1.8.0 Command: rm -rf FuseSOM.buildbin-libdir && mkdir FuseSOM.buildbin-libdir && /Users/biocbuild/BBS/utils/build-universal.sh FuseSOM_1.8.0.tar.gz /Library/Frameworks/R.framework/Resources/bin/R FuseSOM.buildbin-libdir StartedAt: 2025-02-12 15:08:21 -0500 (Wed, 12 Feb 2025) EndedAt: 2025-02-12 15:08:56 -0500 (Wed, 12 Feb 2025) EllapsedTime: 34.5 seconds RetCode: 0 Status: OK PackageFile: FuseSOM_1.8.0.tgz PackageFileSize: 2.716 MiB