Package: FuseSOM Version: 1.8.0 Command: /Library/Frameworks/R.framework/Resources/bin/R CMD build --keep-empty-dirs --no-resave-data FuseSOM StartedAt: 2025-02-03 19:02:04 -0500 (Mon, 03 Feb 2025) EndedAt: 2025-02-03 19:04:07 -0500 (Mon, 03 Feb 2025) EllapsedTime: 123.4 seconds RetCode: 0 Status: OK PackageFile: FuseSOM_1.8.0.tar.gz PackageFileSize: 2.644 MiB