Package: FuseSOM Version: 1.8.0 Command: /home/biocbuild/R/R/bin/R CMD build --keep-empty-dirs --no-resave-data FuseSOM StartedAt: 2025-02-10 23:32:24 -0000 (Mon, 10 Feb 2025) EndedAt: 2025-02-10 23:33:47 -0000 (Mon, 10 Feb 2025) EllapsedTime: 83.0 seconds RetCode: 0 Status: OK PackageFile: FuseSOM_1.8.0.tar.gz PackageFileSize: 2.043 MiB