Package: GA4GHclient Version: 1.30.0 Command: /Library/Frameworks/R.framework/Resources/bin/R CMD build --keep-empty-dirs --no-resave-data GA4GHclient StartedAt: 2025-02-03 19:02:22 -0500 (Mon, 03 Feb 2025) EndedAt: 2025-02-03 19:05:21 -0500 (Mon, 03 Feb 2025) EllapsedTime: 179.1 seconds RetCode: 0 Status: OK PackageFile: GA4GHclient_1.30.0.tar.gz PackageFileSize: 637.5 KiB