Package: GA4GHclient Version: 1.30.0 Command: rm -rf GA4GHclient.buildbin-libdir && mkdir GA4GHclient.buildbin-libdir && F:\biocbuild\bbs-3.20-bioc\R\bin\R.exe CMD INSTALL --build --library=GA4GHclient.buildbin-libdir GA4GHclient_1.30.0.tar.gz StartedAt: 2025-02-04 08:31:42 -0500 (Tue, 04 Feb 2025) EndedAt: 2025-02-04 08:33:23 -0500 (Tue, 04 Feb 2025) EllapsedTime: 101.1 seconds RetCode: 0 Status: OK PackageFile: GA4GHclient_1.30.0.zip PackageFileSize: 762.7 KiB