Package: GA4GHshiny Version: 1.28.0 Command: /Library/Frameworks/R.framework/Resources/bin/R CMD INSTALL GA4GHshiny StartedAt: 2025-02-03 16:41:50 -0500 (Mon, 03 Feb 2025) EndedAt: 2025-02-03 16:43:16 -0500 (Mon, 03 Feb 2025) EllapsedTime: 85.9 seconds RetCode: 0 Status: OK