Package: GA4GHshiny Version: 1.28.0 Command: /home/biocbuild/bbs-3.20-bioc/R/bin/R CMD build --keep-empty-dirs --no-resave-data --md5 GA4GHshiny StartedAt: 2025-02-17 17:15:42 -0500 (Mon, 17 Feb 2025) EndedAt: 2025-02-17 17:16:23 -0500 (Mon, 17 Feb 2025) EllapsedTime: 41.1 seconds RetCode: 0 Status: OK PackageFile: GA4GHshiny_1.28.0.tar.gz PackageFileSize: 299.4 <A href="http://en.wikipedia.org/wiki/KiB" target="_blank">KiB</A>