Package: GA4GHshiny Version: 1.28.0 Command: /home/biocbuild/bbs-3.20-bioc/R/bin/R CMD INSTALL GA4GHshiny StartedAt: 2025-02-03 16:04:49 -0500 (Mon, 03 Feb 2025) EndedAt: 2025-02-03 16:05:35 -0500 (Mon, 03 Feb 2025) EllapsedTime: 45.8 seconds RetCode: 0 Status: OK