Package: GA4GHshiny Version: 1.28.0 Command: rm -rf GA4GHshiny.buildbin-libdir && mkdir GA4GHshiny.buildbin-libdir && F:\biocbuild\bbs-3.20-bioc\R\bin\R.exe CMD INSTALL --build --library=GA4GHshiny.buildbin-libdir GA4GHshiny_1.28.0.tar.gz StartedAt: 2025-02-04 08:31:44 -0500 (Tue, 04 Feb 2025) EndedAt: 2025-02-04 08:32:42 -0500 (Tue, 04 Feb 2025) EllapsedTime: 57.7 seconds RetCode: 0 Status: OK PackageFile: GA4GHshiny_1.28.0.zip PackageFileSize: 480.2 KiB