Package: GA4GHshiny Version: 1.28.0 Command: F:\biocbuild\bbs-3.20-bioc\R\bin\R.exe CMD check --no-multiarch --install=check:GA4GHshiny.install-out.txt --library=F:\biocbuild\bbs-3.20-bioc\R\library --no-vignettes --timings GA4GHshiny_1.28.0.tar.gz StartedAt: 2025-02-04 01:58:17 -0500 (Tue, 04 Feb 2025) EndedAt: 2025-02-04 02:03:35 -0500 (Tue, 04 Feb 2025) EllapsedTime: 318.2 seconds RetCode: 0 Status: OK CheckDir: GA4GHshiny.Rcheck Warnings: 0