Package: GA4GHshiny Version: 1.28.0 Command: /home/biocbuild/R/R/bin/R CMD build --keep-empty-dirs --no-resave-data GA4GHshiny StartedAt: 2025-02-03 23:42:42 -0000 (Mon, 03 Feb 2025) EndedAt: 2025-02-03 23:43:33 -0000 (Mon, 03 Feb 2025) EllapsedTime: 51.0 seconds RetCode: 0 Status: OK PackageFile: GA4GHshiny_1.28.0.tar.gz PackageFileSize: 365.1 KiB