Package: GA4GHshiny Version: 1.28.0 Command: /home/biocbuild/R/R/bin/R CMD check --install=check:GA4GHshiny.install-out.txt --library=/home/biocbuild/R/R/site-library --no-vignettes --timings GA4GHshiny_1.28.0.tar.gz StartedAt: 2025-02-04 07:07:36 -0000 (Tue, 04 Feb 2025) EndedAt: 2025-02-04 07:13:14 -0000 (Tue, 04 Feb 2025) EllapsedTime: 338.3 seconds RetCode: 0 Status: OK CheckDir: GA4GHshiny.Rcheck Warnings: 0