Package: GARS Version: 1.26.0 Command: /Library/Frameworks/R.framework/Resources/bin/R CMD INSTALL GARS StartedAt: 2025-02-03 17:39:40 -0500 (Mon, 03 Feb 2025) EndedAt: 2025-02-03 17:40:44 -0500 (Mon, 03 Feb 2025) EllapsedTime: 64.6 seconds RetCode: 0 Status: OK