Package: GARS Version: 1.26.0 Command: /home/biocbuild/R/R/bin/R CMD build --keep-empty-dirs --no-resave-data GARS StartedAt: 2025-02-03 23:43:13 -0000 (Mon, 03 Feb 2025) EndedAt: 2025-02-03 23:45:34 -0000 (Mon, 03 Feb 2025) EllapsedTime: 141.1 seconds RetCode: 0 Status: OK PackageFile: GARS_1.26.0.tar.gz PackageFileSize: 428.9 KiB