Package: GARS Version: 1.26.0 Command: /home/biocbuild/R/R/bin/R CMD INSTALL GARS StartedAt: 2025-02-03 21:14:56 -0000 (Mon, 03 Feb 2025) EndedAt: 2025-02-03 21:16:06 -0000 (Mon, 03 Feb 2025) EllapsedTime: 69.1 seconds RetCode: 0 Status: OK