Package: GBScleanR
Version: 2.0.2
Command: /home/biocbuild/R/R/bin/R CMD build --keep-empty-dirs --no-resave-data GBScleanR
StartedAt: 2024-11-20 00:49:40 -0000 (Wed, 20 Nov 2024)
EndedAt: 2024-11-20 00:52:12 -0000 (Wed, 20 Nov 2024)
EllapsedTime: 151.2 seconds
RetCode: 0
Status: OK
PackageFile: GBScleanR_2.0.2.tar.gz
PackageFileSize: 1.34 <A href="http://en.wikipedia.org/wiki/MiB" target="_blank">MiB</A>