Package: GBScleanR Version: 2.0.3 Command: /home/biocbuild/bbs-3.20-bioc/R/bin/R CMD INSTALL GBScleanR StartedAt: 2025-02-03 15:20:16 -0500 (Mon, 03 Feb 2025) EndedAt: 2025-02-03 15:21:01 -0500 (Mon, 03 Feb 2025) EllapsedTime: 45.3 seconds RetCode: 0 Status: OK