Package: GBScleanR Version: 2.0.3 Command: rm -rf GBScleanR.buildbin-libdir && mkdir GBScleanR.buildbin-libdir && F:\biocbuild\bbs-3.20-bioc\R\bin\R.exe CMD INSTALL --build --library=GBScleanR.buildbin-libdir GBScleanR_2.0.3.tar.gz StartedAt: 2025-02-04 08:32:05 -0500 (Tue, 04 Feb 2025) EndedAt: 2025-02-04 08:35:06 -0500 (Tue, 04 Feb 2025) EllapsedTime: 181.3 seconds RetCode: 0 Status: OK PackageFile: GBScleanR_2.0.3.zip PackageFileSize: 1.957 MiB