Package: GDCRNATools Version: 1.26.0 Command: /Library/Frameworks/R.framework/Resources/bin/R CMD check --install=check:GDCRNATools.install-out.txt --library=/Library/Frameworks/R.framework/Resources/library --no-vignettes --timings GDCRNATools_1.26.0.tar.gz StartedAt: 2025-02-18 03:27:18 -0500 (Tue, 18 Feb 2025) EndedAt: 2025-02-18 03:38:18 -0500 (Tue, 18 Feb 2025) EllapsedTime: 659.7 seconds RetCode: 0 Status: OK CheckDir: GDCRNATools.Rcheck Warnings: 0