Package: GDCRNATools
Version: 1.26.0
Command: /Library/Frameworks/R.framework/Resources/bin/R CMD INSTALL GDCRNATools
StartedAt: 2025-02-17 16:38:49 -0500 (Mon, 17 Feb 2025)
EndedAt: 2025-02-17 16:40:44 -0500 (Mon, 17 Feb 2025)
EllapsedTime: 115.1 seconds
RetCode: 0
Status: OK