Package: GDCRNATools Version: 1.26.0 Command: /home/biocbuild/bbs-3.20-bioc/R/bin/R CMD build --keep-empty-dirs --no-resave-data --md5 GDCRNATools StartedAt: 2025-02-03 17:29:53 -0500 (Mon, 03 Feb 2025) EndedAt: 2025-02-03 17:30:51 -0500 (Mon, 03 Feb 2025) EllapsedTime: 58.1 seconds RetCode: 0 Status: OK PackageFile: GDCRNATools_1.26.0.tar.gz PackageFileSize: 5.315 MiB