Package: GDCRNATools Version: 1.26.0 Command: /home/biocbuild/bbs-3.20-bioc/R/bin/R CMD check --install=check:GDCRNATools.install-out.txt --library=/home/biocbuild/bbs-3.20-bioc/R/site-library --timings GDCRNATools_1.26.0.tar.gz StartedAt: 2025-02-03 22:32:06 -0500 (Mon, 03 Feb 2025) EndedAt: 2025-02-03 22:37:52 -0500 (Mon, 03 Feb 2025) EllapsedTime: 345.4 seconds RetCode: 0 Status: OK CheckDir: GDCRNATools.Rcheck Warnings: 0