Package: GDCRNATools Version: 1.26.0 Command: /home/biocbuild/bbs-3.20-bioc/R/bin/R CMD INSTALL GDCRNATools StartedAt: 2025-02-03 16:07:36 -0500 (Mon, 03 Feb 2025) EndedAt: 2025-02-03 16:08:45 -0500 (Mon, 03 Feb 2025) EllapsedTime: 69.3 seconds RetCode: 0 Status: OK