Package: GDCRNATools Version: 1.26.0 Command: rm -rf GDCRNATools.buildbin-libdir && mkdir GDCRNATools.buildbin-libdir && F:\biocbuild\bbs-3.20-bioc\R\bin\R.exe CMD INSTALL --build --library=GDCRNATools.buildbin-libdir GDCRNATools_1.26.0.tar.gz StartedAt: 2025-02-04 08:32:13 -0500 (Tue, 04 Feb 2025) EndedAt: 2025-02-04 08:33:52 -0500 (Tue, 04 Feb 2025) EllapsedTime: 98.7 seconds RetCode: 0 Status: OK PackageFile: GDCRNATools_1.26.0.zip PackageFileSize: 3.375 MiB