Package: GDCRNATools Version: 1.26.0 Command: chmod a+r GDCRNATools -R && F:\biocbuild\bbs-3.20-bioc\R\bin\R.exe CMD build --keep-empty-dirs --no-resave-data GDCRNATools StartedAt: 2025-02-03 19:18:51 -0500 (Mon, 03 Feb 2025) EndedAt: 2025-02-03 19:20:14 -0500 (Mon, 03 Feb 2025) EllapsedTime: 83.1 seconds RetCode: 0 Status: OK PackageFile: GDCRNATools_1.26.0.tar.gz PackageFileSize: 5.313 MiB