Package: GDCRNATools Version: 1.26.0 Command: /home/biocbuild/R/R/bin/R CMD build --keep-empty-dirs --no-resave-data GDCRNATools StartedAt: 2025-02-03 23:44:14 -0000 (Mon, 03 Feb 2025) EndedAt: 2025-02-03 23:45:26 -0000 (Mon, 03 Feb 2025) EllapsedTime: 72.0 seconds RetCode: 0 Status: OK PackageFile: GDCRNATools_1.26.0.tar.gz PackageFileSize: 5.316 MiB